BEGIN:VCALENDAR
VERSION:2.0
PRODID:-//GreenStage - ECPv6.15.20//NONSGML v1.0//EN
CALSCALE:GREGORIAN
METHOD:PUBLISH
X-ORIGINAL-URL:https://greenstage.org
X-WR-CALDESC:Events for GreenStage
REFRESH-INTERVAL;VALUE=DURATION:PT1H
X-Robots-Tag:noindex
X-PUBLISHED-TTL:PT1H
BEGIN:VTIMEZONE
TZID:America/Los_Angeles
BEGIN:DAYLIGHT
TZOFFSETFROM:-0800
TZOFFSETTO:-0700
TZNAME:PDT
DTSTART:20250309T100000
END:DAYLIGHT
BEGIN:STANDARD
TZOFFSETFROM:-0700
TZOFFSETTO:-0800
TZNAME:PST
DTSTART:20251102T090000
END:STANDARD
BEGIN:DAYLIGHT
TZOFFSETFROM:-0800
TZOFFSETTO:-0700
TZNAME:PDT
DTSTART:20260308T100000
END:DAYLIGHT
BEGIN:STANDARD
TZOFFSETFROM:-0700
TZOFFSETTO:-0800
TZNAME:PST
DTSTART:20261101T090000
END:STANDARD
BEGIN:DAYLIGHT
TZOFFSETFROM:-0800
TZOFFSETTO:-0700
TZNAME:PDT
DTSTART:20270314T100000
END:DAYLIGHT
BEGIN:STANDARD
TZOFFSETFROM:-0700
TZOFFSETTO:-0800
TZNAME:PST
DTSTART:20271107T090000
END:STANDARD
END:VTIMEZONE
BEGIN:VEVENT
DTSTART;TZID=America/Los_Angeles:20260719T150000
DTEND;TZID=America/Los_Angeles:20260719T160000
DTSTAMP:20260422T012438
CREATED:20260407T200457Z
LAST-MODIFIED:20260408T005848Z
UID:10000295-1784473200-1784476800@greenstage.org
SUMMARY:The Tempest - BYB
DESCRIPTION:Share this:\n				Email a link to a friend (Opens in new window)\n				Email
URL:https://greenstage.org/show/the-tempest-byb-2/
LOCATION:Salmon Bay Park\, 2001 NW Canoe Pl\, Seattle\, WA\, 98117\, United States
CATEGORIES:Backyard Bard Cat,byb-tempest-26-cat,show-cat
GEO:47.6799531;-122.3821345
X-APPLE-STRUCTURED-LOCATION;VALUE=URI;X-ADDRESS=Salmon Bay Park 2001 NW Canoe Pl Seattle WA 98117 United States;X-APPLE-RADIUS=500;X-TITLE=2001 NW Canoe Pl:geo:-122.3821345,47.6799531
END:VEVENT
BEGIN:VEVENT
DTSTART;TZID=America/Los_Angeles:20260719T161500
DTEND;TZID=America/Los_Angeles:20260719T171500
DTSTAMP:20260422T012438
CREATED:20260407T200405Z
LAST-MODIFIED:20260408T181110Z
UID:10000294-1784477700-1784481300@greenstage.org
SUMMARY:The Two Noble Kinsmen - BYB
DESCRIPTION:Share this:\n				Email a link to a friend (Opens in new window)\n				Email
URL:https://greenstage.org/show/the-two-noble-kinsmen-byb-3/
LOCATION:Salmon Bay Park\, 2001 NW Canoe Pl\, Seattle\, WA\, 98117\, United States
CATEGORIES:Backyard Bard Cat,byb-kinsmen-26-cat,show-cat
GEO:47.6799531;-122.3821345
X-APPLE-STRUCTURED-LOCATION;VALUE=URI;X-ADDRESS=Salmon Bay Park 2001 NW Canoe Pl Seattle WA 98117 United States;X-APPLE-RADIUS=500;X-TITLE=2001 NW Canoe Pl:geo:-122.3821345,47.6799531
END:VEVENT
END:VCALENDAR