BEGIN:VCALENDAR
VERSION:2.0
PRODID:-//GreenStage - ECPv6.15.20//NONSGML v1.0//EN
CALSCALE:GREGORIAN
METHOD:PUBLISH
X-ORIGINAL-URL:https://greenstage.org
X-WR-CALDESC:Events for GreenStage
REFRESH-INTERVAL;VALUE=DURATION:PT1H
X-Robots-Tag:noindex
X-PUBLISHED-TTL:PT1H
BEGIN:VTIMEZONE
TZID:America/Los_Angeles
BEGIN:DAYLIGHT
TZOFFSETFROM:-0800
TZOFFSETTO:-0700
TZNAME:PDT
DTSTART:20250309T100000
END:DAYLIGHT
BEGIN:STANDARD
TZOFFSETFROM:-0700
TZOFFSETTO:-0800
TZNAME:PST
DTSTART:20251102T090000
END:STANDARD
BEGIN:DAYLIGHT
TZOFFSETFROM:-0800
TZOFFSETTO:-0700
TZNAME:PDT
DTSTART:20260308T100000
END:DAYLIGHT
BEGIN:STANDARD
TZOFFSETFROM:-0700
TZOFFSETTO:-0800
TZNAME:PST
DTSTART:20261101T090000
END:STANDARD
BEGIN:DAYLIGHT
TZOFFSETFROM:-0800
TZOFFSETTO:-0700
TZNAME:PDT
DTSTART:20270314T100000
END:DAYLIGHT
BEGIN:STANDARD
TZOFFSETFROM:-0700
TZOFFSETTO:-0800
TZNAME:PST
DTSTART:20271107T090000
END:STANDARD
END:VTIMEZONE
BEGIN:VEVENT
DTSTART;TZID=America/Los_Angeles:20260731T190000
DTEND;TZID=America/Los_Angeles:20260731T210000
DTSTAMP:20260421T053240
CREATED:20260318T205525Z
LAST-MODIFIED:20260318T205525Z
UID:10000311-1785524400-1785531600@greenstage.org
SUMMARY:Coriolanus
DESCRIPTION:Share this:\n				Email a link to a friend (Opens in new window)\n				Email
URL:https://greenstage.org/show/coriolanus-7/
LOCATION:Magnuson Park Amphitheater\, 6344 NE 74th St\, Seattle\, WA\, 98115\, United States
CATEGORIES:coriolanus-26-cat,Shakespeare in the Park Cat,show-cat
GEO:47.682787495317;-122.25880359925
X-APPLE-STRUCTURED-LOCATION;VALUE=URI;X-ADDRESS=Magnuson Park Amphitheater 6344 NE 74th St Seattle WA 98115 United States;X-APPLE-RADIUS=500;X-TITLE=6344 NE 74th St:geo:-122.25880359925,47.682787495317
END:VEVENT
BEGIN:VEVENT
DTSTART;TZID=America/Los_Angeles:20260801T190000
DTEND;TZID=America/Los_Angeles:20260801T210000
DTSTAMP:20260421T053240
CREATED:20260318T205959Z
LAST-MODIFIED:20260318T205959Z
UID:10000314-1785610800-1785618000@greenstage.org
SUMMARY:The Winter's Tale
DESCRIPTION:Share this:\n				Email a link to a friend (Opens in new window)\n				Email
URL:https://greenstage.org/show/the-winters-tale-10/
LOCATION:Magnuson Park Amphitheater\, 6344 NE 74th St\, Seattle\, WA\, 98115\, United States
CATEGORIES:Shakespeare in the Park Cat,show-cat,winters-tale-26-cat
GEO:47.682787495317;-122.25880359925
X-APPLE-STRUCTURED-LOCATION;VALUE=URI;X-ADDRESS=Magnuson Park Amphitheater 6344 NE 74th St Seattle WA 98115 United States;X-APPLE-RADIUS=500;X-TITLE=6344 NE 74th St:geo:-122.25880359925,47.682787495317
END:VEVENT
BEGIN:VEVENT
DTSTART;TZID=America/Los_Angeles:20260802T190000
DTEND;TZID=America/Los_Angeles:20260802T210000
DTSTAMP:20260421T053240
CREATED:20260318T224413Z
LAST-MODIFIED:20260318T224413Z
UID:10000319-1785697200-1785704400@greenstage.org
SUMMARY:Coriolanus
DESCRIPTION:Share this:\n				Email a link to a friend (Opens in new window)\n				Email
URL:https://greenstage.org/show/coriolanus-9/
LOCATION:Magnuson Park Amphitheater\, 6344 NE 74th St\, Seattle\, WA\, 98115\, United States
CATEGORIES:coriolanus-26-cat,Shakespeare in the Park Cat,show-cat
GEO:47.682787495317;-122.25880359925
X-APPLE-STRUCTURED-LOCATION;VALUE=URI;X-ADDRESS=Magnuson Park Amphitheater 6344 NE 74th St Seattle WA 98115 United States;X-APPLE-RADIUS=500;X-TITLE=6344 NE 74th St:geo:-122.25880359925,47.682787495317
END:VEVENT
END:VCALENDAR