BEGIN:VCALENDAR
VERSION:2.0
PRODID:-//GreenStage - ECPv6.15.20//NONSGML v1.0//EN
CALSCALE:GREGORIAN
METHOD:PUBLISH
X-WR-CALNAME:GreenStage
X-ORIGINAL-URL:https://greenstage.org
X-WR-CALDESC:Events for GreenStage
REFRESH-INTERVAL;VALUE=DURATION:PT1H
X-Robots-Tag:noindex
X-PUBLISHED-TTL:PT1H
BEGIN:VTIMEZONE
TZID:America/Los_Angeles
BEGIN:DAYLIGHT
TZOFFSETFROM:-0800
TZOFFSETTO:-0700
TZNAME:PDT
DTSTART:20240310T100000
END:DAYLIGHT
BEGIN:STANDARD
TZOFFSETFROM:-0700
TZOFFSETTO:-0800
TZNAME:PST
DTSTART:20241103T090000
END:STANDARD
BEGIN:DAYLIGHT
TZOFFSETFROM:-0800
TZOFFSETTO:-0700
TZNAME:PDT
DTSTART:20250309T100000
END:DAYLIGHT
BEGIN:STANDARD
TZOFFSETFROM:-0700
TZOFFSETTO:-0800
TZNAME:PST
DTSTART:20251102T090000
END:STANDARD
BEGIN:DAYLIGHT
TZOFFSETFROM:-0800
TZOFFSETTO:-0700
TZNAME:PDT
DTSTART:20260308T100000
END:DAYLIGHT
BEGIN:STANDARD
TZOFFSETFROM:-0700
TZOFFSETTO:-0800
TZNAME:PST
DTSTART:20261101T090000
END:STANDARD
END:VTIMEZONE
BEGIN:VEVENT
DTSTART;TZID=America/Los_Angeles:20250718T190000
DTEND;TZID=America/Los_Angeles:20250718T210000
DTSTAMP:20260421T131014
CREATED:20250122T203844Z
LAST-MODIFIED:20250122T203844Z
UID:10000254-1752865200-1752872400@greenstage.org
SUMMARY:Much Ado About Nothing
DESCRIPTION:
URL:https://greenstage.org/show/much-ado-about-nothing/
LOCATION:Fall City Park\, 4199 Fall City-Carnation Rd SE\, Fall City\, WA\, 98024\, United States
CATEGORIES:much-ado-25-cat,Shakespeare in the Park Cat,show-cat,SOTF Amphitheater
GEO:47.5701113;-121.8874928
X-APPLE-STRUCTURED-LOCATION;VALUE=URI;X-ADDRESS=Fall City Park 4199 Fall City-Carnation Rd SE Fall City WA 98024 United States;X-APPLE-RADIUS=500;X-TITLE=4199 Fall City-Carnation Rd SE:geo:-121.8874928,47.5701113
END:VEVENT
BEGIN:VEVENT
DTSTART;TZID=America/Los_Angeles:20250725T190000
DTEND;TZID=America/Los_Angeles:20250725T210000
DTSTAMP:20260421T131014
CREATED:20250116T225201Z
LAST-MODIFIED:20250122T214515Z
UID:10000222-1753470000-1753477200@greenstage.org
SUMMARY:Richard III
DESCRIPTION:
URL:https://greenstage.org/show/richard-iii-2025-7/
LOCATION:Fall City Park\, 4199 Fall City-Carnation Rd SE\, Fall City\, WA\, 98024\, United States
CATEGORIES:richard-iii-25-cat,Shakespeare in the Park Cat,show-cat
GEO:47.5701113;-121.8874928
X-APPLE-STRUCTURED-LOCATION;VALUE=URI;X-ADDRESS=Fall City Park 4199 Fall City-Carnation Rd SE Fall City WA 98024 United States;X-APPLE-RADIUS=500;X-TITLE=4199 Fall City-Carnation Rd SE:geo:-121.8874928,47.5701113
END:VEVENT
END:VCALENDAR