BEGIN:VCALENDAR
VERSION:2.0
PRODID:-//GreenStage - ECPv6.15.20//NONSGML v1.0//EN
CALSCALE:GREGORIAN
METHOD:PUBLISH
X-ORIGINAL-URL:https://greenstage.org
X-WR-CALDESC:Events for GreenStage
REFRESH-INTERVAL;VALUE=DURATION:PT1H
X-Robots-Tag:noindex
X-PUBLISHED-TTL:PT1H
BEGIN:VTIMEZONE
TZID:America/Los_Angeles
BEGIN:DAYLIGHT
TZOFFSETFROM:-0800
TZOFFSETTO:-0700
TZNAME:PDT
DTSTART:20230312T100000
END:DAYLIGHT
BEGIN:STANDARD
TZOFFSETFROM:-0700
TZOFFSETTO:-0800
TZNAME:PST
DTSTART:20231105T090000
END:STANDARD
BEGIN:DAYLIGHT
TZOFFSETFROM:-0800
TZOFFSETTO:-0700
TZNAME:PDT
DTSTART:20240310T100000
END:DAYLIGHT
BEGIN:STANDARD
TZOFFSETFROM:-0700
TZOFFSETTO:-0800
TZNAME:PST
DTSTART:20241103T090000
END:STANDARD
BEGIN:DAYLIGHT
TZOFFSETFROM:-0800
TZOFFSETTO:-0700
TZNAME:PDT
DTSTART:20250309T100000
END:DAYLIGHT
BEGIN:STANDARD
TZOFFSETFROM:-0700
TZOFFSETTO:-0800
TZNAME:PST
DTSTART:20251102T090000
END:STANDARD
END:VTIMEZONE
BEGIN:VEVENT
DTSTART;TZID=America/Los_Angeles:20240726T190000
DTEND;TZID=America/Los_Angeles:20240726T210000
DTSTAMP:20260422T073312
CREATED:20240504T043003Z
LAST-MODIFIED:20240610T231208Z
UID:10000147-1722020400-1722027600@greenstage.org
SUMMARY:Twelfth Night
DESCRIPTION:
URL:https://greenstage.org/show/twelfth-night-8/
LOCATION:Fall City Park\, 4199 Fall City-Carnation Rd SE\, Fall City\, WA\, 98024\, United States
CATEGORIES:Shakespeare in the Park Cat,show-cat,Twelfth Night 24 cat
GEO:47.5701113;-121.8874928
X-APPLE-STRUCTURED-LOCATION;VALUE=URI;X-ADDRESS=Fall City Park 4199 Fall City-Carnation Rd SE Fall City WA 98024 United States;X-APPLE-RADIUS=500;X-TITLE=4199 Fall City-Carnation Rd SE:geo:-121.8874928,47.5701113
END:VEVENT
END:VCALENDAR